BEGIN:VCALENDAR
VERSION:2.0
PRODID:-//wp-events-plugin.com//7.2.3.1//EN
TZID:America/New_York
X-WR-TIMEZONE:America/New_York
BEGIN:VEVENT
UID:864@fds.yale.edu
DTSTART;TZID=America/New_York:20250611T120000
DTEND;TZID=America/New_York:20250611T130000
DTSTAMP:20250916T142152Z
URL:https://fds.yale.edu/events/fds-members-only-luncheon-4/
SUMMARY:FDS Members-only Luncheon
DESCRIPTION:\nFaculty of the institute meet for lunch at KT1307 to socializ
 e and talk shop.\n
CATEGORIES:FDS Events,Member Event
LOCATION:Yale Institute for Foundations of Data Science Common Area\, Kline
  Tower 13th Floor\, New Haven\, CT\, 06511\, United States
X-APPLE-STRUCTURED-LOCATION;VALUE=URI;X-ADDRESS=Kline Tower 13th Floor\, Ne
 w Haven\, CT\, 06511\, United States;X-APPLE-RADIUS=100;X-TITLE=Yale Insti
 tute for Foundations of Data Science Common Area:geo:0,0
END:VEVENT
BEGIN:VTIMEZONE
TZID:America/New_York
X-LIC-LOCATION:America/New_York
BEGIN:DAYLIGHT
DTSTART:20250309T030000
TZOFFSETFROM:-0500
TZOFFSETTO:-0400
TZNAME:EDT
END:DAYLIGHT
END:VTIMEZONE
END:VCALENDAR