BEGIN:VCALENDAR
VERSION:2.0
PRODID:-//wp-events-plugin.com//7.2.3.1//EN
TZID:America/New_York
X-WR-TIMEZONE:America/New_York
BEGIN:VEVENT
UID:517@fds.yale.edu
DTSTART;TZID=America/New_York:20240215T160000
DTEND;TZID=America/New_York:20240215T190000
DTSTAMP:20250916T142130Z
URL:https://fds.yale.edu/events/fds-valentines-day-party/
SUMMARY:FDS Valentine's Day Party
DESCRIPTION:https://yalefds.swoogo.com/beourvalentine\n\n\n\n\n\n
CATEGORIES:FDS Events
END:VEVENT
BEGIN:VTIMEZONE
TZID:America/New_York
X-LIC-LOCATION:America/New_York
BEGIN:STANDARD
DTSTART:20231105T010000
TZOFFSETFROM:-0400
TZOFFSETTO:-0500
TZNAME:EST
END:STANDARD
END:VTIMEZONE
END:VCALENDAR