BEGIN:VCALENDAR
VERSION:2.0
PRODID:-//wp-events-plugin.com//7.2.3.1//EN
TZID:America/New_York
X-WR-TIMEZONE:America/New_York
BEGIN:VEVENT
UID:615@fds.yale.edu
DTSTART;TZID=America/New_York:20240506T170000
DTEND;TZID=America/New_York:20240506T190000
DTSTAMP:20250916T142135Z
URL:https://fds.yale.edu/events/undergraduate-data-science-poster-session-
 may-6/
SUMMARY:Undergraduate Data Science Poster Session
DESCRIPTION:\n\n\n\n\nEvent Website\n\n
CATEGORIES:FDS Events,Poster Session
END:VEVENT
BEGIN:VTIMEZONE
TZID:America/New_York
X-LIC-LOCATION:America/New_York
BEGIN:DAYLIGHT
DTSTART:20240310T030000
TZOFFSETFROM:-0500
TZOFFSETTO:-0400
TZNAME:EDT
END:DAYLIGHT
END:VTIMEZONE
END:VCALENDAR